BEGIN:VCALENDAR
VERSION:2.0
PRODID:-//Discovery Community Church - ECPv6.15.20//NONSGML v1.0//EN
CALSCALE:GREGORIAN
METHOD:PUBLISH
X-WR-CALNAME:Discovery Community Church
X-ORIGINAL-URL:https://discoverycommunity.church
X-WR-CALDESC:Events for Discovery Community Church
REFRESH-INTERVAL;VALUE=DURATION:PT1H
X-Robots-Tag:noindex
X-PUBLISHED-TTL:PT1H
BEGIN:VTIMEZONE
TZID:America/Vancouver
BEGIN:DAYLIGHT
TZOFFSETFROM:-0800
TZOFFSETTO:-0700
TZNAME:PDT
DTSTART:20250309T100000
END:DAYLIGHT
BEGIN:STANDARD
TZOFFSETFROM:-0700
TZOFFSETTO:-0800
TZNAME:PST
DTSTART:20251102T090000
END:STANDARD
BEGIN:DAYLIGHT
TZOFFSETFROM:-0800
TZOFFSETTO:-0700
TZNAME:PDT
DTSTART:20260308T100000
END:DAYLIGHT
BEGIN:STANDARD
TZOFFSETFROM:-0700
TZOFFSETTO:-0800
TZNAME:PST
DTSTART:20261101T090000
END:STANDARD
BEGIN:DAYLIGHT
TZOFFSETFROM:-0800
TZOFFSETTO:-0700
TZNAME:PDT
DTSTART:20270314T100000
END:DAYLIGHT
BEGIN:STANDARD
TZOFFSETFROM:-0700
TZOFFSETTO:-0800
TZNAME:PST
DTSTART:20271107T090000
END:STANDARD
BEGIN:DAYLIGHT
TZOFFSETFROM:-0800
TZOFFSETTO:-0700
TZNAME:PDT
DTSTART:20280312T100000
END:DAYLIGHT
BEGIN:STANDARD
TZOFFSETFROM:-0700
TZOFFSETTO:-0800
TZNAME:PST
DTSTART:20281105T090000
END:STANDARD
BEGIN:DAYLIGHT
TZOFFSETFROM:-0800
TZOFFSETTO:-0700
TZNAME:PDT
DTSTART:20290311T100000
END:DAYLIGHT
BEGIN:STANDARD
TZOFFSETFROM:-0700
TZOFFSETTO:-0800
TZNAME:PST
DTSTART:20291104T090000
END:STANDARD
END:VTIMEZONE
BEGIN:VEVENT
DTSTART;TZID=America/Vancouver:20260507T130000
DTEND;TZID=America/Vancouver:20260507T143000
DTSTAMP:20260424T095835
CREATED:20230824T203954Z
LAST-MODIFIED:20260419T140837Z
UID:10000471-1778158800-1778164200@discoverycommunity.church
SUMMARY:Hymn Sing
DESCRIPTION:Join us at 1pm for a Hymn Sing and Fellowship time as we worship our God through long loved hymns.  Invite your friends and join us.
URL:https://discoverycommunity.church/event/hymn-sing/2026-05-07/
CATEGORIES:Hymn Sing
ATTACH;FMTTYPE=image/png:https://discoverycommunity.church/wp-content/uploads/2023/08/e-bulletin-icons-9-×-9-in-900-×-900-px-800-×-800-px.png
END:VEVENT
BEGIN:VEVENT
DTSTART;TZID=America/Vancouver:20260604T130000
DTEND;TZID=America/Vancouver:20260604T143000
DTSTAMP:20260424T095835
CREATED:20230824T203954Z
LAST-MODIFIED:20260419T140837Z
UID:10000472-1780578000-1780583400@discoverycommunity.church
SUMMARY:Hymn Sing
DESCRIPTION:Join us at 1pm for a Hymn Sing and Fellowship time as we worship our God through long loved hymns.  Invite your friends and join us.
URL:https://discoverycommunity.church/event/hymn-sing/2026-06-04/
CATEGORIES:Hymn Sing
ATTACH;FMTTYPE=image/png:https://discoverycommunity.church/wp-content/uploads/2023/08/e-bulletin-icons-9-×-9-in-900-×-900-px-800-×-800-px.png
END:VEVENT
BEGIN:VEVENT
DTSTART;TZID=America/Vancouver:20260903T130000
DTEND;TZID=America/Vancouver:20260903T143000
DTSTAMP:20260424T095835
CREATED:20230824T203954Z
LAST-MODIFIED:20260419T140837Z
UID:10000475-1788440400-1788445800@discoverycommunity.church
SUMMARY:Hymn Sing
DESCRIPTION:Join us at 1pm for a Hymn Sing and Fellowship time as we worship our God through long loved hymns.  Invite your friends and join us.
URL:https://discoverycommunity.church/event/hymn-sing/2026-09-03/
CATEGORIES:Hymn Sing
ATTACH;FMTTYPE=image/png:https://discoverycommunity.church/wp-content/uploads/2023/08/e-bulletin-icons-9-×-9-in-900-×-900-px-800-×-800-px.png
END:VEVENT
BEGIN:VEVENT
DTSTART;TZID=America/Vancouver:20261001T130000
DTEND;TZID=America/Vancouver:20261001T143000
DTSTAMP:20260424T095835
CREATED:20230824T203954Z
LAST-MODIFIED:20260419T140837Z
UID:10000476-1790859600-1790865000@discoverycommunity.church
SUMMARY:Hymn Sing
DESCRIPTION:Join us at 1pm for a Hymn Sing and Fellowship time as we worship our God through long loved hymns.  Invite your friends and join us.
URL:https://discoverycommunity.church/event/hymn-sing/2026-10-01/
CATEGORIES:Hymn Sing
ATTACH;FMTTYPE=image/png:https://discoverycommunity.church/wp-content/uploads/2023/08/e-bulletin-icons-9-×-9-in-900-×-900-px-800-×-800-px.png
END:VEVENT
BEGIN:VEVENT
DTSTART;TZID=America/Vancouver:20261105T130000
DTEND;TZID=America/Vancouver:20261105T143000
DTSTAMP:20260424T095835
CREATED:20230824T203954Z
LAST-MODIFIED:20260419T140837Z
UID:10000477-1793883600-1793889000@discoverycommunity.church
SUMMARY:Hymn Sing
DESCRIPTION:Join us at 1pm for a Hymn Sing and Fellowship time as we worship our God through long loved hymns.  Invite your friends and join us.
URL:https://discoverycommunity.church/event/hymn-sing/2026-11-05/
CATEGORIES:Hymn Sing
ATTACH;FMTTYPE=image/png:https://discoverycommunity.church/wp-content/uploads/2023/08/e-bulletin-icons-9-×-9-in-900-×-900-px-800-×-800-px.png
END:VEVENT
BEGIN:VEVENT
DTSTART;TZID=America/Vancouver:20261203T130000
DTEND;TZID=America/Vancouver:20261203T143000
DTSTAMP:20260424T095835
CREATED:20230824T203954Z
LAST-MODIFIED:20260419T140837Z
UID:10000478-1796302800-1796308200@discoverycommunity.church
SUMMARY:Hymn Sing
DESCRIPTION:Join us at 1pm for a Hymn Sing and Fellowship time as we worship our God through long loved hymns.  Invite your friends and join us.
URL:https://discoverycommunity.church/event/hymn-sing/2026-12-03/
CATEGORIES:Hymn Sing
ATTACH;FMTTYPE=image/png:https://discoverycommunity.church/wp-content/uploads/2023/08/e-bulletin-icons-9-×-9-in-900-×-900-px-800-×-800-px.png
END:VEVENT
BEGIN:VEVENT
DTSTART;TZID=America/Vancouver:20270107T130000
DTEND;TZID=America/Vancouver:20270107T143000
DTSTAMP:20260424T095835
CREATED:20230824T203954Z
LAST-MODIFIED:20260419T140837Z
UID:10000479-1799326800-1799332200@discoverycommunity.church
SUMMARY:Hymn Sing
DESCRIPTION:Join us at 1pm for a Hymn Sing and Fellowship time as we worship our God through long loved hymns.  Invite your friends and join us.
URL:https://discoverycommunity.church/event/hymn-sing/2027-01-07/
CATEGORIES:Hymn Sing
ATTACH;FMTTYPE=image/png:https://discoverycommunity.church/wp-content/uploads/2023/08/e-bulletin-icons-9-×-9-in-900-×-900-px-800-×-800-px.png
END:VEVENT
BEGIN:VEVENT
DTSTART;TZID=America/Vancouver:20270204T130000
DTEND;TZID=America/Vancouver:20270204T143000
DTSTAMP:20260424T095835
CREATED:20230824T203954Z
LAST-MODIFIED:20260419T140837Z
UID:10000480-1801746000-1801751400@discoverycommunity.church
SUMMARY:Hymn Sing
DESCRIPTION:Join us at 1pm for a Hymn Sing and Fellowship time as we worship our God through long loved hymns.  Invite your friends and join us.
URL:https://discoverycommunity.church/event/hymn-sing/2027-02-04/
CATEGORIES:Hymn Sing
ATTACH;FMTTYPE=image/png:https://discoverycommunity.church/wp-content/uploads/2023/08/e-bulletin-icons-9-×-9-in-900-×-900-px-800-×-800-px.png
END:VEVENT
BEGIN:VEVENT
DTSTART;TZID=America/Vancouver:20270304T130000
DTEND;TZID=America/Vancouver:20270304T143000
DTSTAMP:20260424T095836
CREATED:20230824T203954Z
LAST-MODIFIED:20260419T140837Z
UID:10000481-1804165200-1804170600@discoverycommunity.church
SUMMARY:Hymn Sing
DESCRIPTION:Join us at 1pm for a Hymn Sing and Fellowship time as we worship our God through long loved hymns.  Invite your friends and join us.
URL:https://discoverycommunity.church/event/hymn-sing/2027-03-04/
CATEGORIES:Hymn Sing
ATTACH;FMTTYPE=image/png:https://discoverycommunity.church/wp-content/uploads/2023/08/e-bulletin-icons-9-×-9-in-900-×-900-px-800-×-800-px.png
END:VEVENT
BEGIN:VEVENT
DTSTART;TZID=America/Vancouver:20270401T130000
DTEND;TZID=America/Vancouver:20270401T143000
DTSTAMP:20260424T095836
CREATED:20230824T203954Z
LAST-MODIFIED:20260419T140837Z
UID:10000482-1806584400-1806589800@discoverycommunity.church
SUMMARY:Hymn Sing
DESCRIPTION:Join us at 1pm for a Hymn Sing and Fellowship time as we worship our God through long loved hymns.  Invite your friends and join us.
URL:https://discoverycommunity.church/event/hymn-sing/2027-04-01/
CATEGORIES:Hymn Sing
ATTACH;FMTTYPE=image/png:https://discoverycommunity.church/wp-content/uploads/2023/08/e-bulletin-icons-9-×-9-in-900-×-900-px-800-×-800-px.png
END:VEVENT
BEGIN:VEVENT
DTSTART;TZID=America/Vancouver:20270506T130000
DTEND;TZID=America/Vancouver:20270506T143000
DTSTAMP:20260424T095836
CREATED:20230824T203954Z
LAST-MODIFIED:20260419T140837Z
UID:10000483-1809608400-1809613800@discoverycommunity.church
SUMMARY:Hymn Sing
DESCRIPTION:Join us at 1pm for a Hymn Sing and Fellowship time as we worship our God through long loved hymns.  Invite your friends and join us.
URL:https://discoverycommunity.church/event/hymn-sing/2027-05-06/
CATEGORIES:Hymn Sing
ATTACH;FMTTYPE=image/png:https://discoverycommunity.church/wp-content/uploads/2023/08/e-bulletin-icons-9-×-9-in-900-×-900-px-800-×-800-px.png
END:VEVENT
BEGIN:VEVENT
DTSTART;TZID=America/Vancouver:20270603T130000
DTEND;TZID=America/Vancouver:20270603T143000
DTSTAMP:20260424T095836
CREATED:20230824T203954Z
LAST-MODIFIED:20260419T140837Z
UID:10000484-1812027600-1812033000@discoverycommunity.church
SUMMARY:Hymn Sing
DESCRIPTION:Join us at 1pm for a Hymn Sing and Fellowship time as we worship our God through long loved hymns.  Invite your friends and join us.
URL:https://discoverycommunity.church/event/hymn-sing/2027-06-03/
CATEGORIES:Hymn Sing
ATTACH;FMTTYPE=image/png:https://discoverycommunity.church/wp-content/uploads/2023/08/e-bulletin-icons-9-×-9-in-900-×-900-px-800-×-800-px.png
END:VEVENT
BEGIN:VEVENT
DTSTART;TZID=America/Vancouver:20270701T130000
DTEND;TZID=America/Vancouver:20270701T143000
DTSTAMP:20260424T095836
CREATED:20230824T203954Z
LAST-MODIFIED:20260419T140837Z
UID:10000485-1814446800-1814452200@discoverycommunity.church
SUMMARY:Hymn Sing
DESCRIPTION:Join us at 1pm for a Hymn Sing and Fellowship time as we worship our God through long loved hymns.  Invite your friends and join us.
URL:https://discoverycommunity.church/event/hymn-sing/2027-07-01/
CATEGORIES:Hymn Sing
ATTACH;FMTTYPE=image/png:https://discoverycommunity.church/wp-content/uploads/2023/08/e-bulletin-icons-9-×-9-in-900-×-900-px-800-×-800-px.png
END:VEVENT
BEGIN:VEVENT
DTSTART;TZID=America/Vancouver:20270805T130000
DTEND;TZID=America/Vancouver:20270805T143000
DTSTAMP:20260424T095836
CREATED:20230824T203954Z
LAST-MODIFIED:20260419T140837Z
UID:10000486-1817470800-1817476200@discoverycommunity.church
SUMMARY:Hymn Sing
DESCRIPTION:Join us at 1pm for a Hymn Sing and Fellowship time as we worship our God through long loved hymns.  Invite your friends and join us.
URL:https://discoverycommunity.church/event/hymn-sing/2027-08-05/
CATEGORIES:Hymn Sing
ATTACH;FMTTYPE=image/png:https://discoverycommunity.church/wp-content/uploads/2023/08/e-bulletin-icons-9-×-9-in-900-×-900-px-800-×-800-px.png
END:VEVENT
BEGIN:VEVENT
DTSTART;TZID=America/Vancouver:20270902T130000
DTEND;TZID=America/Vancouver:20270902T143000
DTSTAMP:20260424T095836
CREATED:20230824T203954Z
LAST-MODIFIED:20260419T140837Z
UID:10000487-1819890000-1819895400@discoverycommunity.church
SUMMARY:Hymn Sing
DESCRIPTION:Join us at 1pm for a Hymn Sing and Fellowship time as we worship our God through long loved hymns.  Invite your friends and join us.
URL:https://discoverycommunity.church/event/hymn-sing/2027-09-02/
CATEGORIES:Hymn Sing
ATTACH;FMTTYPE=image/png:https://discoverycommunity.church/wp-content/uploads/2023/08/e-bulletin-icons-9-×-9-in-900-×-900-px-800-×-800-px.png
END:VEVENT
BEGIN:VEVENT
DTSTART;TZID=America/Vancouver:20271007T130000
DTEND;TZID=America/Vancouver:20271007T143000
DTSTAMP:20260424T095836
CREATED:20230824T203954Z
LAST-MODIFIED:20260419T140837Z
UID:10000488-1822914000-1822919400@discoverycommunity.church
SUMMARY:Hymn Sing
DESCRIPTION:Join us at 1pm for a Hymn Sing and Fellowship time as we worship our God through long loved hymns.  Invite your friends and join us.
URL:https://discoverycommunity.church/event/hymn-sing/2027-10-07/
CATEGORIES:Hymn Sing
ATTACH;FMTTYPE=image/png:https://discoverycommunity.church/wp-content/uploads/2023/08/e-bulletin-icons-9-×-9-in-900-×-900-px-800-×-800-px.png
END:VEVENT
BEGIN:VEVENT
DTSTART;TZID=America/Vancouver:20271104T130000
DTEND;TZID=America/Vancouver:20271104T143000
DTSTAMP:20260424T095836
CREATED:20230824T203954Z
LAST-MODIFIED:20260419T140837Z
UID:10000489-1825333200-1825338600@discoverycommunity.church
SUMMARY:Hymn Sing
DESCRIPTION:Join us at 1pm for a Hymn Sing and Fellowship time as we worship our God through long loved hymns.  Invite your friends and join us.
URL:https://discoverycommunity.church/event/hymn-sing/2027-11-04/
CATEGORIES:Hymn Sing
ATTACH;FMTTYPE=image/png:https://discoverycommunity.church/wp-content/uploads/2023/08/e-bulletin-icons-9-×-9-in-900-×-900-px-800-×-800-px.png
END:VEVENT
BEGIN:VEVENT
DTSTART;TZID=America/Vancouver:20271202T130000
DTEND;TZID=America/Vancouver:20271202T143000
DTSTAMP:20260424T095836
CREATED:20230824T203954Z
LAST-MODIFIED:20260419T140837Z
UID:10000490-1827752400-1827757800@discoverycommunity.church
SUMMARY:Hymn Sing
DESCRIPTION:Join us at 1pm for a Hymn Sing and Fellowship time as we worship our God through long loved hymns.  Invite your friends and join us.
URL:https://discoverycommunity.church/event/hymn-sing/2027-12-02/
CATEGORIES:Hymn Sing
ATTACH;FMTTYPE=image/png:https://discoverycommunity.church/wp-content/uploads/2023/08/e-bulletin-icons-9-×-9-in-900-×-900-px-800-×-800-px.png
END:VEVENT
BEGIN:VEVENT
DTSTART;TZID=America/Vancouver:20280106T130000
DTEND;TZID=America/Vancouver:20280106T143000
DTSTAMP:20260424T095836
CREATED:20230824T203954Z
LAST-MODIFIED:20260419T140837Z
UID:10000491-1830776400-1830781800@discoverycommunity.church
SUMMARY:Hymn Sing
DESCRIPTION:Join us at 1pm for a Hymn Sing and Fellowship time as we worship our God through long loved hymns.  Invite your friends and join us.
URL:https://discoverycommunity.church/event/hymn-sing/2028-01-06/
CATEGORIES:Hymn Sing
ATTACH;FMTTYPE=image/png:https://discoverycommunity.church/wp-content/uploads/2023/08/e-bulletin-icons-9-×-9-in-900-×-900-px-800-×-800-px.png
END:VEVENT
BEGIN:VEVENT
DTSTART;TZID=America/Vancouver:20280203T130000
DTEND;TZID=America/Vancouver:20280203T143000
DTSTAMP:20260424T095836
CREATED:20230824T203954Z
LAST-MODIFIED:20260419T140837Z
UID:10000492-1833195600-1833201000@discoverycommunity.church
SUMMARY:Hymn Sing
DESCRIPTION:Join us at 1pm for a Hymn Sing and Fellowship time as we worship our God through long loved hymns.  Invite your friends and join us.
URL:https://discoverycommunity.church/event/hymn-sing/2028-02-03/
CATEGORIES:Hymn Sing
ATTACH;FMTTYPE=image/png:https://discoverycommunity.church/wp-content/uploads/2023/08/e-bulletin-icons-9-×-9-in-900-×-900-px-800-×-800-px.png
END:VEVENT
BEGIN:VEVENT
DTSTART;TZID=America/Vancouver:20280302T130000
DTEND;TZID=America/Vancouver:20280302T143000
DTSTAMP:20260424T095836
CREATED:20230824T203954Z
LAST-MODIFIED:20260419T140837Z
UID:10000493-1835614800-1835620200@discoverycommunity.church
SUMMARY:Hymn Sing
DESCRIPTION:Join us at 1pm for a Hymn Sing and Fellowship time as we worship our God through long loved hymns.  Invite your friends and join us.
URL:https://discoverycommunity.church/event/hymn-sing/2028-03-02/
CATEGORIES:Hymn Sing
ATTACH;FMTTYPE=image/png:https://discoverycommunity.church/wp-content/uploads/2023/08/e-bulletin-icons-9-×-9-in-900-×-900-px-800-×-800-px.png
END:VEVENT
BEGIN:VEVENT
DTSTART;TZID=America/Vancouver:20280406T130000
DTEND;TZID=America/Vancouver:20280406T143000
DTSTAMP:20260424T095836
CREATED:20230824T203954Z
LAST-MODIFIED:20260419T140837Z
UID:10000494-1838638800-1838644200@discoverycommunity.church
SUMMARY:Hymn Sing
DESCRIPTION:Join us at 1pm for a Hymn Sing and Fellowship time as we worship our God through long loved hymns.  Invite your friends and join us.
URL:https://discoverycommunity.church/event/hymn-sing/2028-04-06/
CATEGORIES:Hymn Sing
ATTACH;FMTTYPE=image/png:https://discoverycommunity.church/wp-content/uploads/2023/08/e-bulletin-icons-9-×-9-in-900-×-900-px-800-×-800-px.png
END:VEVENT
BEGIN:VEVENT
DTSTART;TZID=America/Vancouver:20280504T130000
DTEND;TZID=America/Vancouver:20280504T143000
DTSTAMP:20260424T095836
CREATED:20230824T203954Z
LAST-MODIFIED:20260419T140837Z
UID:10000495-1841058000-1841063400@discoverycommunity.church
SUMMARY:Hymn Sing
DESCRIPTION:Join us at 1pm for a Hymn Sing and Fellowship time as we worship our God through long loved hymns.  Invite your friends and join us.
URL:https://discoverycommunity.church/event/hymn-sing/2028-05-04/
CATEGORIES:Hymn Sing
ATTACH;FMTTYPE=image/png:https://discoverycommunity.church/wp-content/uploads/2023/08/e-bulletin-icons-9-×-9-in-900-×-900-px-800-×-800-px.png
END:VEVENT
BEGIN:VEVENT
DTSTART;TZID=America/Vancouver:20280601T130000
DTEND;TZID=America/Vancouver:20280601T143000
DTSTAMP:20260424T095836
CREATED:20230824T203954Z
LAST-MODIFIED:20260419T140837Z
UID:10000496-1843477200-1843482600@discoverycommunity.church
SUMMARY:Hymn Sing
DESCRIPTION:Join us at 1pm for a Hymn Sing and Fellowship time as we worship our God through long loved hymns.  Invite your friends and join us.
URL:https://discoverycommunity.church/event/hymn-sing/2028-06-01/
CATEGORIES:Hymn Sing
ATTACH;FMTTYPE=image/png:https://discoverycommunity.church/wp-content/uploads/2023/08/e-bulletin-icons-9-×-9-in-900-×-900-px-800-×-800-px.png
END:VEVENT
BEGIN:VEVENT
DTSTART;TZID=America/Vancouver:20280706T130000
DTEND;TZID=America/Vancouver:20280706T143000
DTSTAMP:20260424T095836
CREATED:20230824T203954Z
LAST-MODIFIED:20260419T140837Z
UID:10000497-1846501200-1846506600@discoverycommunity.church
SUMMARY:Hymn Sing
DESCRIPTION:Join us at 1pm for a Hymn Sing and Fellowship time as we worship our God through long loved hymns.  Invite your friends and join us.
URL:https://discoverycommunity.church/event/hymn-sing/2028-07-06/
CATEGORIES:Hymn Sing
ATTACH;FMTTYPE=image/png:https://discoverycommunity.church/wp-content/uploads/2023/08/e-bulletin-icons-9-×-9-in-900-×-900-px-800-×-800-px.png
END:VEVENT
BEGIN:VEVENT
DTSTART;TZID=America/Vancouver:20280803T130000
DTEND;TZID=America/Vancouver:20280803T143000
DTSTAMP:20260424T095836
CREATED:20230824T203954Z
LAST-MODIFIED:20260419T140837Z
UID:10000498-1848920400-1848925800@discoverycommunity.church
SUMMARY:Hymn Sing
DESCRIPTION:Join us at 1pm for a Hymn Sing and Fellowship time as we worship our God through long loved hymns.  Invite your friends and join us.
URL:https://discoverycommunity.church/event/hymn-sing/2028-08-03/
CATEGORIES:Hymn Sing
ATTACH;FMTTYPE=image/png:https://discoverycommunity.church/wp-content/uploads/2023/08/e-bulletin-icons-9-×-9-in-900-×-900-px-800-×-800-px.png
END:VEVENT
BEGIN:VEVENT
DTSTART;TZID=America/Vancouver:20280907T130000
DTEND;TZID=America/Vancouver:20280907T143000
DTSTAMP:20260424T095836
CREATED:20230824T203954Z
LAST-MODIFIED:20260419T140837Z
UID:10000499-1851944400-1851949800@discoverycommunity.church
SUMMARY:Hymn Sing
DESCRIPTION:Join us at 1pm for a Hymn Sing and Fellowship time as we worship our God through long loved hymns.  Invite your friends and join us.
URL:https://discoverycommunity.church/event/hymn-sing/2028-09-07/
CATEGORIES:Hymn Sing
ATTACH;FMTTYPE=image/png:https://discoverycommunity.church/wp-content/uploads/2023/08/e-bulletin-icons-9-×-9-in-900-×-900-px-800-×-800-px.png
END:VEVENT
BEGIN:VEVENT
DTSTART;TZID=America/Vancouver:20281005T130000
DTEND;TZID=America/Vancouver:20281005T143000
DTSTAMP:20260424T095836
CREATED:20230824T203954Z
LAST-MODIFIED:20260419T140837Z
UID:10000500-1854363600-1854369000@discoverycommunity.church
SUMMARY:Hymn Sing
DESCRIPTION:Join us at 1pm for a Hymn Sing and Fellowship time as we worship our God through long loved hymns.  Invite your friends and join us.
URL:https://discoverycommunity.church/event/hymn-sing/2028-10-05/
CATEGORIES:Hymn Sing
ATTACH;FMTTYPE=image/png:https://discoverycommunity.church/wp-content/uploads/2023/08/e-bulletin-icons-9-×-9-in-900-×-900-px-800-×-800-px.png
END:VEVENT
BEGIN:VEVENT
DTSTART;TZID=America/Vancouver:20281102T130000
DTEND;TZID=America/Vancouver:20281102T143000
DTSTAMP:20260424T095836
CREATED:20230824T203954Z
LAST-MODIFIED:20260419T140837Z
UID:10000501-1856782800-1856788200@discoverycommunity.church
SUMMARY:Hymn Sing
DESCRIPTION:Join us at 1pm for a Hymn Sing and Fellowship time as we worship our God through long loved hymns.  Invite your friends and join us.
URL:https://discoverycommunity.church/event/hymn-sing/2028-11-02/
CATEGORIES:Hymn Sing
ATTACH;FMTTYPE=image/png:https://discoverycommunity.church/wp-content/uploads/2023/08/e-bulletin-icons-9-×-9-in-900-×-900-px-800-×-800-px.png
END:VEVENT
BEGIN:VEVENT
DTSTART;TZID=America/Vancouver:20281207T130000
DTEND;TZID=America/Vancouver:20281207T143000
DTSTAMP:20260424T095836
CREATED:20230824T203954Z
LAST-MODIFIED:20260419T140837Z
UID:10000502-1859806800-1859812200@discoverycommunity.church
SUMMARY:Hymn Sing
DESCRIPTION:Join us at 1pm for a Hymn Sing and Fellowship time as we worship our God through long loved hymns.  Invite your friends and join us.
URL:https://discoverycommunity.church/event/hymn-sing/2028-12-07/
CATEGORIES:Hymn Sing
ATTACH;FMTTYPE=image/png:https://discoverycommunity.church/wp-content/uploads/2023/08/e-bulletin-icons-9-×-9-in-900-×-900-px-800-×-800-px.png
END:VEVENT
END:VCALENDAR