BEGIN:VCALENDAR
VERSION:2.0
PRODID:-//Discovery Community Church - ECPv6.15.20//NONSGML v1.0//EN
CALSCALE:GREGORIAN
METHOD:PUBLISH
X-ORIGINAL-URL:https://discoverycommunity.church
X-WR-CALDESC:Events for Discovery Community Church
REFRESH-INTERVAL;VALUE=DURATION:PT1H
X-Robots-Tag:noindex
X-PUBLISHED-TTL:PT1H
BEGIN:VTIMEZONE
TZID:America/Vancouver
BEGIN:DAYLIGHT
TZOFFSETFROM:-0800
TZOFFSETTO:-0700
TZNAME:PDT
DTSTART:20240310T100000
END:DAYLIGHT
BEGIN:STANDARD
TZOFFSETFROM:-0700
TZOFFSETTO:-0800
TZNAME:PST
DTSTART:20241103T090000
END:STANDARD
BEGIN:DAYLIGHT
TZOFFSETFROM:-0800
TZOFFSETTO:-0700
TZNAME:PDT
DTSTART:20250309T100000
END:DAYLIGHT
BEGIN:STANDARD
TZOFFSETFROM:-0700
TZOFFSETTO:-0800
TZNAME:PST
DTSTART:20251102T090000
END:STANDARD
BEGIN:DAYLIGHT
TZOFFSETFROM:-0800
TZOFFSETTO:-0700
TZNAME:PDT
DTSTART:20260308T100000
END:DAYLIGHT
BEGIN:STANDARD
TZOFFSETFROM:-0700
TZOFFSETTO:-0800
TZNAME:PST
DTSTART:20261101T090000
END:STANDARD
BEGIN:DAYLIGHT
TZOFFSETFROM:-0800
TZOFFSETTO:-0700
TZNAME:PDT
DTSTART:20270314T100000
END:DAYLIGHT
BEGIN:STANDARD
TZOFFSETFROM:-0700
TZOFFSETTO:-0800
TZNAME:PST
DTSTART:20271107T090000
END:STANDARD
END:VTIMEZONE
BEGIN:VEVENT
DTSTART;TZID=America/Vancouver:20260417T180000
DTEND;TZID=America/Vancouver:20260417T200000
DTSTAMP:20260424T120008
CREATED:20251215T133833Z
LAST-MODIFIED:20251215T133833Z
UID:10000676-1776448800-1776456000@discoverycommunity.church
SUMMARY:Movies @ Church: How to Train Your Dragon
DESCRIPTION:
URL:https://discoverycommunity.church/event/movies-church-how-to-train-your-dragon/
CATEGORIES:Movies @ Church
ATTACH;FMTTYPE=image/png:https://discoverycommunity.church/wp-content/uploads/2025/08/MOVIES-@-CHURCH.png
END:VEVENT
BEGIN:VEVENT
DTSTART;TZID=America/Vancouver:20260404T180000
DTEND;TZID=America/Vancouver:20260404T200000
DTSTAMP:20260424T120008
CREATED:20260128T150328Z
LAST-MODIFIED:20260128T150402Z
UID:10000681-1775325600-1775332800@discoverycommunity.church
SUMMARY:Movies @ Church - RISEN
DESCRIPTION:
URL:https://discoverycommunity.church/event/movies-church-risen/
CATEGORIES:Movies @ Church
ATTACH;FMTTYPE=image/png:https://discoverycommunity.church/wp-content/uploads/2025/08/MOVIES-@-CHURCH.png
END:VEVENT
BEGIN:VEVENT
DTSTART;TZID=America/Vancouver:20260130T180000
DTEND;TZID=America/Vancouver:20260130T200000
DTSTAMP:20260424T120008
CREATED:20251215T133619Z
LAST-MODIFIED:20251215T133907Z
UID:10000675-1769796000-1769803200@discoverycommunity.church
SUMMARY:Movies @ Church: Encanto
DESCRIPTION:
URL:https://discoverycommunity.church/event/movies-church-encanto/
LOCATION:Discovery Community Church\, 250 10th Ave.\, Campell River\, BC\, V9W4E3\, Canada
CATEGORIES:Movies @ Church
ATTACH;FMTTYPE=image/png:https://discoverycommunity.church/wp-content/uploads/2025/08/MOVIES-@-CHURCH.png
END:VEVENT
BEGIN:VEVENT
DTSTART;TZID=America/Vancouver:20251219T180000
DTEND;TZID=America/Vancouver:20251219T200000
DTSTAMP:20260424T120008
CREATED:20251027T194756Z
LAST-MODIFIED:20251027T194801Z
UID:10000588-1766167200-1766174400@discoverycommunity.church
SUMMARY:Movies @ Church: THE STAR
DESCRIPTION:
URL:https://discoverycommunity.church/event/movies-church-the-star/
CATEGORIES:Movies @ Church
ATTACH;FMTTYPE=image/png:https://discoverycommunity.church/wp-content/uploads/2025/08/MOVIES-@-CHURCH.png
END:VEVENT
BEGIN:VEVENT
DTSTART;TZID=America/Vancouver:20251205T180000
DTEND;TZID=America/Vancouver:20251205T200000
DTSTAMP:20260424T120008
CREATED:20251027T194642Z
LAST-MODIFIED:20251129T171725Z
UID:10000587-1764957600-1764964800@discoverycommunity.church
SUMMARY:Movies @ Church: THE NATIVITY STORY
DESCRIPTION:
URL:https://discoverycommunity.church/event/movies-church-the-nativity/
CATEGORIES:Movies @ Church
ATTACH;FMTTYPE=image/png:https://discoverycommunity.church/wp-content/uploads/2025/08/MOVIES-@-CHURCH.png
END:VEVENT
BEGIN:VEVENT
DTSTART;TZID=America/Vancouver:20251017T180000
DTEND;TZID=America/Vancouver:20251017T200000
DTSTAMP:20260424T120008
CREATED:20250923T204009Z
LAST-MODIFIED:20250923T204149Z
UID:10000523-1760724000-1760731200@discoverycommunity.church
SUMMARY:Movies @ Church: Harold and the Purple Crayon
DESCRIPTION:
URL:https://discoverycommunity.church/event/movies-church-harold-and-the-purple-crayon/
LOCATION:Discovery Community Church\, 250 10th Ave.\, Campell River\, BC\, V9W4E3\, Canada
CATEGORIES:Movies @ Church
ATTACH;FMTTYPE=image/png:https://discoverycommunity.church/wp-content/uploads/2025/08/MOVIES-@-CHURCH.png
END:VEVENT
END:VCALENDAR