BEGIN:VCALENDAR
VERSION:2.0
PRODID:-//Discovery Community Church - ECPv6.15.20//NONSGML v1.0//EN
CALSCALE:GREGORIAN
METHOD:PUBLISH
X-ORIGINAL-URL:https://discoverycommunity.church
X-WR-CALDESC:Events for Discovery Community Church
REFRESH-INTERVAL;VALUE=DURATION:PT1H
X-Robots-Tag:noindex
X-PUBLISHED-TTL:PT1H
BEGIN:VTIMEZONE
TZID:America/Vancouver
BEGIN:DAYLIGHT
TZOFFSETFROM:-0800
TZOFFSETTO:-0700
TZNAME:PDT
DTSTART:20270314T100000
END:DAYLIGHT
BEGIN:STANDARD
TZOFFSETFROM:-0700
TZOFFSETTO:-0800
TZNAME:PST
DTSTART:20271107T090000
END:STANDARD
BEGIN:DAYLIGHT
TZOFFSETFROM:-0800
TZOFFSETTO:-0700
TZNAME:PDT
DTSTART:20280312T100000
END:DAYLIGHT
BEGIN:STANDARD
TZOFFSETFROM:-0700
TZOFFSETTO:-0800
TZNAME:PST
DTSTART:20281105T090000
END:STANDARD
BEGIN:DAYLIGHT
TZOFFSETFROM:-0800
TZOFFSETTO:-0700
TZNAME:PDT
DTSTART:20290311T100000
END:DAYLIGHT
BEGIN:STANDARD
TZOFFSETFROM:-0700
TZOFFSETTO:-0800
TZNAME:PST
DTSTART:20291104T090000
END:STANDARD
BEGIN:DAYLIGHT
TZOFFSETFROM:-0800
TZOFFSETTO:-0700
TZNAME:PDT
DTSTART:20300310T100000
END:DAYLIGHT
BEGIN:STANDARD
TZOFFSETFROM:-0700
TZOFFSETTO:-0800
TZNAME:PST
DTSTART:20301103T090000
END:STANDARD
BEGIN:DAYLIGHT
TZOFFSETFROM:-0800
TZOFFSETTO:-0700
TZNAME:PDT
DTSTART:20310309T100000
END:DAYLIGHT
BEGIN:STANDARD
TZOFFSETFROM:-0700
TZOFFSETTO:-0800
TZNAME:PST
DTSTART:20311102T090000
END:STANDARD
BEGIN:DAYLIGHT
TZOFFSETFROM:-0800
TZOFFSETTO:-0700
TZNAME:PDT
DTSTART:20320314T100000
END:DAYLIGHT
BEGIN:STANDARD
TZOFFSETFROM:-0700
TZOFFSETTO:-0800
TZNAME:PST
DTSTART:20321107T090000
END:STANDARD
END:VTIMEZONE
BEGIN:VEVENT
DTSTART;TZID=America/Vancouver:20281105T113000
DTEND;TZID=America/Vancouver:20281105T130000
DTSTAMP:20260424T180030
CREATED:20231103T025921Z
LAST-MODIFIED:20260401T194653Z
UID:10000405-1857036600-1857042000@discoverycommunity.church
SUMMARY:Shared Meal
DESCRIPTION:
URL:https://discoverycommunity.church/event/shared-meal/2028-11-05/
LOCATION:Discovery Community Church\, 250 10th Ave.\, Campell River\, BC\, V9W4E3\, Canada
CATEGORIES:Shared Meal
ATTACH;FMTTYPE=image/png:https://discoverycommunity.church/wp-content/uploads/2023/11/2-e1764436586658.png
END:VEVENT
BEGIN:VEVENT
DTSTART;TZID=America/Vancouver:20281203T113000
DTEND;TZID=America/Vancouver:20281203T130000
DTSTAMP:20260424T180030
CREATED:20231103T025921Z
LAST-MODIFIED:20260401T194653Z
UID:10000346-1859455800-1859461200@discoverycommunity.church
SUMMARY:Shared Meal
DESCRIPTION:
URL:https://discoverycommunity.church/event/shared-meal/2028-12-03/
LOCATION:Discovery Community Church\, 250 10th Ave.\, Campell River\, BC\, V9W4E3\, Canada
CATEGORIES:Shared Meal
ATTACH;FMTTYPE=image/png:https://discoverycommunity.church/wp-content/uploads/2023/11/2-e1764436586658.png
END:VEVENT
BEGIN:VEVENT
DTSTART;TZID=America/Vancouver:20290107T113000
DTEND;TZID=America/Vancouver:20290107T130000
DTSTAMP:20260424T180030
CREATED:20231103T025921Z
LAST-MODIFIED:20260401T194653Z
UID:10000347-1862479800-1862485200@discoverycommunity.church
SUMMARY:Shared Meal
DESCRIPTION:
URL:https://discoverycommunity.church/event/shared-meal/2029-01-07/
LOCATION:Discovery Community Church\, 250 10th Ave.\, Campell River\, BC\, V9W4E3\, Canada
CATEGORIES:Shared Meal
ATTACH;FMTTYPE=image/png:https://discoverycommunity.church/wp-content/uploads/2023/11/2-e1764436586658.png
END:VEVENT
BEGIN:VEVENT
DTSTART;TZID=America/Vancouver:20290204T113000
DTEND;TZID=America/Vancouver:20290204T130000
DTSTAMP:20260424T180030
CREATED:20231103T025921Z
LAST-MODIFIED:20260401T194653Z
UID:10000348-1864899000-1864904400@discoverycommunity.church
SUMMARY:Shared Meal
DESCRIPTION:
URL:https://discoverycommunity.church/event/shared-meal/2029-02-04/
LOCATION:Discovery Community Church\, 250 10th Ave.\, Campell River\, BC\, V9W4E3\, Canada
CATEGORIES:Shared Meal
ATTACH;FMTTYPE=image/png:https://discoverycommunity.church/wp-content/uploads/2023/11/2-e1764436586658.png
END:VEVENT
BEGIN:VEVENT
DTSTART;TZID=America/Vancouver:20290304T113000
DTEND;TZID=America/Vancouver:20290304T130000
DTSTAMP:20260424T180030
CREATED:20231103T025921Z
LAST-MODIFIED:20260401T194653Z
UID:10000349-1867318200-1867323600@discoverycommunity.church
SUMMARY:Shared Meal
DESCRIPTION:
URL:https://discoverycommunity.church/event/shared-meal/2029-03-04/
LOCATION:Discovery Community Church\, 250 10th Ave.\, Campell River\, BC\, V9W4E3\, Canada
CATEGORIES:Shared Meal
ATTACH;FMTTYPE=image/png:https://discoverycommunity.church/wp-content/uploads/2023/11/2-e1764436586658.png
END:VEVENT
BEGIN:VEVENT
DTSTART;TZID=America/Vancouver:20290401T113000
DTEND;TZID=America/Vancouver:20290401T130000
DTSTAMP:20260424T180030
CREATED:20231103T025921Z
LAST-MODIFIED:20260401T194653Z
UID:10000350-1869737400-1869742800@discoverycommunity.church
SUMMARY:Shared Meal
DESCRIPTION:
URL:https://discoverycommunity.church/event/shared-meal/2029-04-01/
LOCATION:Discovery Community Church\, 250 10th Ave.\, Campell River\, BC\, V9W4E3\, Canada
CATEGORIES:Shared Meal
ATTACH;FMTTYPE=image/png:https://discoverycommunity.church/wp-content/uploads/2023/11/2-e1764436586658.png
END:VEVENT
BEGIN:VEVENT
DTSTART;TZID=America/Vancouver:20290506T113000
DTEND;TZID=America/Vancouver:20290506T130000
DTSTAMP:20260424T180030
CREATED:20231103T025921Z
LAST-MODIFIED:20260401T194653Z
UID:10000689-1872761400-1872766800@discoverycommunity.church
SUMMARY:Shared Meal
DESCRIPTION:
URL:https://discoverycommunity.church/event/shared-meal/2029-05-06/
LOCATION:Discovery Community Church\, 250 10th Ave.\, Campell River\, BC\, V9W4E3\, Canada
CATEGORIES:Shared Meal
ATTACH;FMTTYPE=image/png:https://discoverycommunity.church/wp-content/uploads/2023/11/2-e1764436586658.png
END:VEVENT
BEGIN:VEVENT
DTSTART;TZID=America/Vancouver:20290603T113000
DTEND;TZID=America/Vancouver:20290603T130000
DTSTAMP:20260424T180030
CREATED:20231103T025921Z
LAST-MODIFIED:20260401T194653Z
UID:10000690-1875180600-1875186000@discoverycommunity.church
SUMMARY:Shared Meal
DESCRIPTION:
URL:https://discoverycommunity.church/event/shared-meal/2029-06-03/
LOCATION:Discovery Community Church\, 250 10th Ave.\, Campell River\, BC\, V9W4E3\, Canada
CATEGORIES:Shared Meal
ATTACH;FMTTYPE=image/png:https://discoverycommunity.church/wp-content/uploads/2023/11/2-e1764436586658.png
END:VEVENT
BEGIN:VEVENT
DTSTART;TZID=America/Vancouver:20290902T113000
DTEND;TZID=America/Vancouver:20290902T130000
DTSTAMP:20260424T180030
CREATED:20231103T025921Z
LAST-MODIFIED:20260401T194653Z
UID:10000691-1883043000-1883048400@discoverycommunity.church
SUMMARY:Shared Meal
DESCRIPTION:
URL:https://discoverycommunity.church/event/shared-meal/2029-09-02/
LOCATION:Discovery Community Church\, 250 10th Ave.\, Campell River\, BC\, V9W4E3\, Canada
CATEGORIES:Shared Meal
ATTACH;FMTTYPE=image/png:https://discoverycommunity.church/wp-content/uploads/2023/11/2-e1764436586658.png
END:VEVENT
BEGIN:VEVENT
DTSTART;TZID=America/Vancouver:20291007T113000
DTEND;TZID=America/Vancouver:20291007T130000
DTSTAMP:20260424T180030
CREATED:20231103T025921Z
LAST-MODIFIED:20260401T194653Z
UID:10000692-1886067000-1886072400@discoverycommunity.church
SUMMARY:Shared Meal
DESCRIPTION:
URL:https://discoverycommunity.church/event/shared-meal/2029-10-07/
LOCATION:Discovery Community Church\, 250 10th Ave.\, Campell River\, BC\, V9W4E3\, Canada
CATEGORIES:Shared Meal
ATTACH;FMTTYPE=image/png:https://discoverycommunity.church/wp-content/uploads/2023/11/2-e1764436586658.png
END:VEVENT
BEGIN:VEVENT
DTSTART;TZID=America/Vancouver:20291104T113000
DTEND;TZID=America/Vancouver:20291104T130000
DTSTAMP:20260424T180030
CREATED:20231103T025921Z
LAST-MODIFIED:20260401T194653Z
UID:10000693-1888486200-1888491600@discoverycommunity.church
SUMMARY:Shared Meal
DESCRIPTION:
URL:https://discoverycommunity.church/event/shared-meal/2029-11-04/
LOCATION:Discovery Community Church\, 250 10th Ave.\, Campell River\, BC\, V9W4E3\, Canada
CATEGORIES:Shared Meal
ATTACH;FMTTYPE=image/png:https://discoverycommunity.church/wp-content/uploads/2023/11/2-e1764436586658.png
END:VEVENT
BEGIN:VEVENT
DTSTART;TZID=America/Vancouver:20291202T113000
DTEND;TZID=America/Vancouver:20291202T130000
DTSTAMP:20260424T180030
CREATED:20231103T025921Z
LAST-MODIFIED:20260401T194653Z
UID:10000694-1890905400-1890910800@discoverycommunity.church
SUMMARY:Shared Meal
DESCRIPTION:
URL:https://discoverycommunity.church/event/shared-meal/2029-12-02/
LOCATION:Discovery Community Church\, 250 10th Ave.\, Campell River\, BC\, V9W4E3\, Canada
CATEGORIES:Shared Meal
ATTACH;FMTTYPE=image/png:https://discoverycommunity.church/wp-content/uploads/2023/11/2-e1764436586658.png
END:VEVENT
BEGIN:VEVENT
DTSTART;TZID=America/Vancouver:20300106T113000
DTEND;TZID=America/Vancouver:20300106T130000
DTSTAMP:20260424T180030
CREATED:20231103T025921Z
LAST-MODIFIED:20260401T194653Z
UID:10000695-1893929400-1893934800@discoverycommunity.church
SUMMARY:Shared Meal
DESCRIPTION:
URL:https://discoverycommunity.church/event/shared-meal/2030-01-06/
LOCATION:Discovery Community Church\, 250 10th Ave.\, Campell River\, BC\, V9W4E3\, Canada
CATEGORIES:Shared Meal
ATTACH;FMTTYPE=image/png:https://discoverycommunity.church/wp-content/uploads/2023/11/2-e1764436586658.png
END:VEVENT
BEGIN:VEVENT
DTSTART;TZID=America/Vancouver:20300203T113000
DTEND;TZID=America/Vancouver:20300203T130000
DTSTAMP:20260424T180030
CREATED:20231103T025921Z
LAST-MODIFIED:20260401T194653Z
UID:10000696-1896348600-1896354000@discoverycommunity.church
SUMMARY:Shared Meal
DESCRIPTION:
URL:https://discoverycommunity.church/event/shared-meal/2030-02-03/
LOCATION:Discovery Community Church\, 250 10th Ave.\, Campell River\, BC\, V9W4E3\, Canada
CATEGORIES:Shared Meal
ATTACH;FMTTYPE=image/png:https://discoverycommunity.church/wp-content/uploads/2023/11/2-e1764436586658.png
END:VEVENT
BEGIN:VEVENT
DTSTART;TZID=America/Vancouver:20300303T113000
DTEND;TZID=America/Vancouver:20300303T130000
DTSTAMP:20260424T180030
CREATED:20231103T025921Z
LAST-MODIFIED:20260401T194653Z
UID:10000697-1898767800-1898773200@discoverycommunity.church
SUMMARY:Shared Meal
DESCRIPTION:
URL:https://discoverycommunity.church/event/shared-meal/2030-03-03/
LOCATION:Discovery Community Church\, 250 10th Ave.\, Campell River\, BC\, V9W4E3\, Canada
CATEGORIES:Shared Meal
ATTACH;FMTTYPE=image/png:https://discoverycommunity.church/wp-content/uploads/2023/11/2-e1764436586658.png
END:VEVENT
BEGIN:VEVENT
DTSTART;TZID=America/Vancouver:20300407T113000
DTEND;TZID=America/Vancouver:20300407T130000
DTSTAMP:20260424T180030
CREATED:20231103T025921Z
LAST-MODIFIED:20260401T194653Z
UID:10000698-1901791800-1901797200@discoverycommunity.church
SUMMARY:Shared Meal
DESCRIPTION:
URL:https://discoverycommunity.church/event/shared-meal/2030-04-07/
LOCATION:Discovery Community Church\, 250 10th Ave.\, Campell River\, BC\, V9W4E3\, Canada
CATEGORIES:Shared Meal
ATTACH;FMTTYPE=image/png:https://discoverycommunity.church/wp-content/uploads/2023/11/2-e1764436586658.png
END:VEVENT
BEGIN:VEVENT
DTSTART;TZID=America/Vancouver:20300505T113000
DTEND;TZID=America/Vancouver:20300505T130000
DTSTAMP:20260424T180030
CREATED:20231103T025921Z
LAST-MODIFIED:20260401T194653Z
UID:10000699-1904211000-1904216400@discoverycommunity.church
SUMMARY:Shared Meal
DESCRIPTION:
URL:https://discoverycommunity.church/event/shared-meal/2030-05-05/
LOCATION:Discovery Community Church\, 250 10th Ave.\, Campell River\, BC\, V9W4E3\, Canada
CATEGORIES:Shared Meal
ATTACH;FMTTYPE=image/png:https://discoverycommunity.church/wp-content/uploads/2023/11/2-e1764436586658.png
END:VEVENT
BEGIN:VEVENT
DTSTART;TZID=America/Vancouver:20300602T113000
DTEND;TZID=America/Vancouver:20300602T130000
DTSTAMP:20260424T180030
CREATED:20231103T025921Z
LAST-MODIFIED:20260401T194653Z
UID:10000700-1906630200-1906635600@discoverycommunity.church
SUMMARY:Shared Meal
DESCRIPTION:
URL:https://discoverycommunity.church/event/shared-meal/2030-06-02/
LOCATION:Discovery Community Church\, 250 10th Ave.\, Campell River\, BC\, V9W4E3\, Canada
CATEGORIES:Shared Meal
ATTACH;FMTTYPE=image/png:https://discoverycommunity.church/wp-content/uploads/2023/11/2-e1764436586658.png
END:VEVENT
BEGIN:VEVENT
DTSTART;TZID=America/Vancouver:20300901T113000
DTEND;TZID=America/Vancouver:20300901T130000
DTSTAMP:20260424T180030
CREATED:20231103T025921Z
LAST-MODIFIED:20260401T194653Z
UID:10000701-1914492600-1914498000@discoverycommunity.church
SUMMARY:Shared Meal
DESCRIPTION:
URL:https://discoverycommunity.church/event/shared-meal/2030-09-01/
LOCATION:Discovery Community Church\, 250 10th Ave.\, Campell River\, BC\, V9W4E3\, Canada
CATEGORIES:Shared Meal
ATTACH;FMTTYPE=image/png:https://discoverycommunity.church/wp-content/uploads/2023/11/2-e1764436586658.png
END:VEVENT
BEGIN:VEVENT
DTSTART;TZID=America/Vancouver:20301006T113000
DTEND;TZID=America/Vancouver:20301006T130000
DTSTAMP:20260424T180030
CREATED:20231103T025921Z
LAST-MODIFIED:20260401T194653Z
UID:10000702-1917516600-1917522000@discoverycommunity.church
SUMMARY:Shared Meal
DESCRIPTION:
URL:https://discoverycommunity.church/event/shared-meal/2030-10-06/
LOCATION:Discovery Community Church\, 250 10th Ave.\, Campell River\, BC\, V9W4E3\, Canada
CATEGORIES:Shared Meal
ATTACH;FMTTYPE=image/png:https://discoverycommunity.church/wp-content/uploads/2023/11/2-e1764436586658.png
END:VEVENT
BEGIN:VEVENT
DTSTART;TZID=America/Vancouver:20301103T113000
DTEND;TZID=America/Vancouver:20301103T130000
DTSTAMP:20260424T180030
CREATED:20231103T025921Z
LAST-MODIFIED:20260401T194653Z
UID:10000703-1919935800-1919941200@discoverycommunity.church
SUMMARY:Shared Meal
DESCRIPTION:
URL:https://discoverycommunity.church/event/shared-meal/2030-11-03/
LOCATION:Discovery Community Church\, 250 10th Ave.\, Campell River\, BC\, V9W4E3\, Canada
CATEGORIES:Shared Meal
ATTACH;FMTTYPE=image/png:https://discoverycommunity.church/wp-content/uploads/2023/11/2-e1764436586658.png
END:VEVENT
BEGIN:VEVENT
DTSTART;TZID=America/Vancouver:20301201T113000
DTEND;TZID=America/Vancouver:20301201T130000
DTSTAMP:20260424T180030
CREATED:20231103T025921Z
LAST-MODIFIED:20260401T194653Z
UID:10000704-1922355000-1922360400@discoverycommunity.church
SUMMARY:Shared Meal
DESCRIPTION:
URL:https://discoverycommunity.church/event/shared-meal/2030-12-01/
LOCATION:Discovery Community Church\, 250 10th Ave.\, Campell River\, BC\, V9W4E3\, Canada
CATEGORIES:Shared Meal
ATTACH;FMTTYPE=image/png:https://discoverycommunity.church/wp-content/uploads/2023/11/2-e1764436586658.png
END:VEVENT
BEGIN:VEVENT
DTSTART;TZID=America/Vancouver:20310105T113000
DTEND;TZID=America/Vancouver:20310105T130000
DTSTAMP:20260424T180030
CREATED:20231103T025921Z
LAST-MODIFIED:20260401T194653Z
UID:10000705-1925379000-1925384400@discoverycommunity.church
SUMMARY:Shared Meal
DESCRIPTION:
URL:https://discoverycommunity.church/event/shared-meal/2031-01-05/
LOCATION:Discovery Community Church\, 250 10th Ave.\, Campell River\, BC\, V9W4E3\, Canada
CATEGORIES:Shared Meal
ATTACH;FMTTYPE=image/png:https://discoverycommunity.church/wp-content/uploads/2023/11/2-e1764436586658.png
END:VEVENT
BEGIN:VEVENT
DTSTART;TZID=America/Vancouver:20310202T113000
DTEND;TZID=America/Vancouver:20310202T130000
DTSTAMP:20260424T180030
CREATED:20231103T025921Z
LAST-MODIFIED:20260401T194653Z
UID:10000706-1927798200-1927803600@discoverycommunity.church
SUMMARY:Shared Meal
DESCRIPTION:
URL:https://discoverycommunity.church/event/shared-meal/2031-02-02/
LOCATION:Discovery Community Church\, 250 10th Ave.\, Campell River\, BC\, V9W4E3\, Canada
CATEGORIES:Shared Meal
ATTACH;FMTTYPE=image/png:https://discoverycommunity.church/wp-content/uploads/2023/11/2-e1764436586658.png
END:VEVENT
BEGIN:VEVENT
DTSTART;TZID=America/Vancouver:20310302T113000
DTEND;TZID=America/Vancouver:20310302T130000
DTSTAMP:20260424T180030
CREATED:20231103T025921Z
LAST-MODIFIED:20260401T194653Z
UID:10000707-1930217400-1930222800@discoverycommunity.church
SUMMARY:Shared Meal
DESCRIPTION:
URL:https://discoverycommunity.church/event/shared-meal/2031-03-02/
LOCATION:Discovery Community Church\, 250 10th Ave.\, Campell River\, BC\, V9W4E3\, Canada
CATEGORIES:Shared Meal
ATTACH;FMTTYPE=image/png:https://discoverycommunity.church/wp-content/uploads/2023/11/2-e1764436586658.png
END:VEVENT
END:VCALENDAR