BEGIN:VCALENDAR
VERSION:2.0
PRODID:-//Discovery Community Church - ECPv6.15.20//NONSGML v1.0//EN
CALSCALE:GREGORIAN
METHOD:PUBLISH
X-WR-CALNAME:Discovery Community Church
X-ORIGINAL-URL:https://discoverycommunity.church
X-WR-CALDESC:Events for Discovery Community Church
REFRESH-INTERVAL;VALUE=DURATION:PT1H
X-Robots-Tag:noindex
X-PUBLISHED-TTL:PT1H
BEGIN:VTIMEZONE
TZID:America/Vancouver
BEGIN:DAYLIGHT
TZOFFSETFROM:-0800
TZOFFSETTO:-0700
TZNAME:PDT
DTSTART:20240310T100000
END:DAYLIGHT
BEGIN:STANDARD
TZOFFSETFROM:-0700
TZOFFSETTO:-0800
TZNAME:PST
DTSTART:20241103T090000
END:STANDARD
BEGIN:DAYLIGHT
TZOFFSETFROM:-0800
TZOFFSETTO:-0700
TZNAME:PDT
DTSTART:20250309T100000
END:DAYLIGHT
BEGIN:STANDARD
TZOFFSETFROM:-0700
TZOFFSETTO:-0800
TZNAME:PST
DTSTART:20251102T090000
END:STANDARD
BEGIN:DAYLIGHT
TZOFFSETFROM:-0800
TZOFFSETTO:-0700
TZNAME:PDT
DTSTART:20260308T100000
END:DAYLIGHT
BEGIN:STANDARD
TZOFFSETFROM:-0700
TZOFFSETTO:-0800
TZNAME:PST
DTSTART:20261101T090000
END:STANDARD
BEGIN:DAYLIGHT
TZOFFSETFROM:-0800
TZOFFSETTO:-0700
TZNAME:PDT
DTSTART:20270314T100000
END:DAYLIGHT
BEGIN:STANDARD
TZOFFSETFROM:-0700
TZOFFSETTO:-0800
TZNAME:PST
DTSTART:20271107T090000
END:STANDARD
END:VTIMEZONE
BEGIN:VEVENT
DTSTART;TZID=America/Vancouver:20260413T100000
DTEND;TZID=America/Vancouver:20260414T103000
DTSTAMP:20260424T131855
CREATED:20251018T042530Z
LAST-MODIFIED:20260420T190441Z
UID:10000596-1776074400-1776162600@discoverycommunity.church
SUMMARY:Walk of Compassion
DESCRIPTION:
URL:https://discoverycommunity.church/event/walk-of-compassion/2026-04-13/
CATEGORIES:Walk of Compassion
ATTACH;FMTTYPE=image/jpeg:https://discoverycommunity.church/wp-content/uploads/2025/10/September-Icons.jpg
END:VEVENT
BEGIN:VEVENT
DTSTART;TZID=America/Vancouver:20260323T100000
DTEND;TZID=America/Vancouver:20260324T103000
DTSTAMP:20260424T131855
CREATED:20251018T042530Z
LAST-MODIFIED:20260420T190441Z
UID:10000595-1774260000-1774348200@discoverycommunity.church
SUMMARY:Walk of Compassion
DESCRIPTION:
URL:https://discoverycommunity.church/event/walk-of-compassion/2026-03-23/
CATEGORIES:Walk of Compassion
ATTACH;FMTTYPE=image/jpeg:https://discoverycommunity.church/wp-content/uploads/2025/10/September-Icons.jpg
END:VEVENT
BEGIN:VEVENT
DTSTART;TZID=America/Vancouver:20260309T100000
DTEND;TZID=America/Vancouver:20260310T103000
DTSTAMP:20260424T131855
CREATED:20251018T042530Z
LAST-MODIFIED:20260420T190441Z
UID:10000594-1773050400-1773138600@discoverycommunity.church
SUMMARY:Walk of Compassion
DESCRIPTION:
URL:https://discoverycommunity.church/event/walk-of-compassion/2026-03-09/
CATEGORIES:Walk of Compassion
ATTACH;FMTTYPE=image/jpeg:https://discoverycommunity.church/wp-content/uploads/2025/10/September-Icons.jpg
END:VEVENT
BEGIN:VEVENT
DTSTART;TZID=America/Vancouver:20260223T100000
DTEND;TZID=America/Vancouver:20260224T103000
DTSTAMP:20260424T131855
CREATED:20251018T042530Z
LAST-MODIFIED:20260420T190441Z
UID:10000530-1771840800-1771929000@discoverycommunity.church
SUMMARY:Walk of Compassion
DESCRIPTION:
URL:https://discoverycommunity.church/event/walk-of-compassion/2026-02-23/
CATEGORIES:Walk of Compassion
ATTACH;FMTTYPE=image/jpeg:https://discoverycommunity.church/wp-content/uploads/2025/10/September-Icons.jpg
END:VEVENT
BEGIN:VEVENT
DTSTART;TZID=America/Vancouver:20260209T100000
DTEND;TZID=America/Vancouver:20260210T103000
DTSTAMP:20260424T131855
CREATED:20251018T042530Z
LAST-MODIFIED:20260420T190441Z
UID:10000593-1770631200-1770719400@discoverycommunity.church
SUMMARY:Walk of Compassion
DESCRIPTION:
URL:https://discoverycommunity.church/event/walk-of-compassion/2026-02-09/
CATEGORIES:Walk of Compassion
ATTACH;FMTTYPE=image/jpeg:https://discoverycommunity.church/wp-content/uploads/2025/10/September-Icons.jpg
END:VEVENT
BEGIN:VEVENT
DTSTART;TZID=America/Vancouver:20260126T100000
DTEND;TZID=America/Vancouver:20260127T103000
DTSTAMP:20260424T131855
CREATED:20251018T042530Z
LAST-MODIFIED:20260420T190441Z
UID:10000529-1769421600-1769509800@discoverycommunity.church
SUMMARY:Walk of Compassion
DESCRIPTION:
URL:https://discoverycommunity.church/event/walk-of-compassion/2026-01-26/
CATEGORIES:Walk of Compassion
ATTACH;FMTTYPE=image/jpeg:https://discoverycommunity.church/wp-content/uploads/2025/10/September-Icons.jpg
END:VEVENT
BEGIN:VEVENT
DTSTART;TZID=America/Vancouver:20260112T100000
DTEND;TZID=America/Vancouver:20260113T103000
DTSTAMP:20260424T131855
CREATED:20251018T042530Z
LAST-MODIFIED:20260420T190441Z
UID:10000592-1768212000-1768300200@discoverycommunity.church
SUMMARY:Walk of Compassion
DESCRIPTION:
URL:https://discoverycommunity.church/event/walk-of-compassion/2026-01-12/
CATEGORIES:Walk of Compassion
ATTACH;FMTTYPE=image/jpeg:https://discoverycommunity.church/wp-content/uploads/2025/10/September-Icons.jpg
END:VEVENT
BEGIN:VEVENT
DTSTART;TZID=America/Vancouver:20251222T100000
DTEND;TZID=America/Vancouver:20251223T103000
DTSTAMP:20260424T131855
CREATED:20251018T042530Z
LAST-MODIFIED:20260420T190441Z
UID:10000591-1766397600-1766485800@discoverycommunity.church
SUMMARY:Walk of Compassion
DESCRIPTION:
URL:https://discoverycommunity.church/event/walk-of-compassion/2025-12-22/
CATEGORIES:Walk of Compassion
ATTACH;FMTTYPE=image/jpeg:https://discoverycommunity.church/wp-content/uploads/2025/10/September-Icons.jpg
END:VEVENT
BEGIN:VEVENT
DTSTART;TZID=America/Vancouver:20251208T100000
DTEND;TZID=America/Vancouver:20251208T110000
DTSTAMP:20260424T131855
CREATED:20251018T042530Z
LAST-MODIFIED:20260420T190441Z
UID:10000590-1765188000-1765191600@discoverycommunity.church
SUMMARY:Walk of Compassion
DESCRIPTION:
URL:https://discoverycommunity.church/event/walk-of-compassion/2025-12-08/
CATEGORIES:Walk of Compassion
ATTACH;FMTTYPE=image/jpeg:https://discoverycommunity.church/wp-content/uploads/2025/10/September-Icons.jpg
END:VEVENT
BEGIN:VEVENT
DTSTART;TZID=America/Vancouver:20251124T100000
DTEND;TZID=America/Vancouver:20251125T103000
DTSTAMP:20260424T131855
CREATED:20251018T042530Z
LAST-MODIFIED:20260420T190441Z
UID:10000527-1763978400-1764066600@discoverycommunity.church
SUMMARY:Walk of Compassion
DESCRIPTION:
URL:https://discoverycommunity.church/event/walk-of-compassion/2025-11-24/
CATEGORIES:Walk of Compassion
ATTACH;FMTTYPE=image/jpeg:https://discoverycommunity.church/wp-content/uploads/2025/10/September-Icons.jpg
END:VEVENT
BEGIN:VEVENT
DTSTART;TZID=America/Vancouver:20251110T100000
DTEND;TZID=America/Vancouver:20251111T103000
DTSTAMP:20260424T131855
CREATED:20251018T042530Z
LAST-MODIFIED:20260420T190441Z
UID:10000589-1762768800-1762857000@discoverycommunity.church
SUMMARY:Walk of Compassion
DESCRIPTION:
URL:https://discoverycommunity.church/event/walk-of-compassion/2025-11-10/
CATEGORIES:Walk of Compassion
ATTACH;FMTTYPE=image/jpeg:https://discoverycommunity.church/wp-content/uploads/2025/10/September-Icons.jpg
END:VEVENT
BEGIN:VEVENT
DTSTART;TZID=America/Vancouver:20251027T100000
DTEND;TZID=America/Vancouver:20251028T103000
DTSTAMP:20260424T131855
CREATED:20251018T042530Z
LAST-MODIFIED:20260420T190441Z
UID:10000526-1761559200-1761647400@discoverycommunity.church
SUMMARY:Walk of Compassion
DESCRIPTION:
URL:https://discoverycommunity.church/event/walk-of-compassion/2025-10-27/
CATEGORIES:Walk of Compassion
ATTACH;FMTTYPE=image/jpeg:https://discoverycommunity.church/wp-content/uploads/2025/10/September-Icons.jpg
END:VEVENT
END:VCALENDAR