BEGIN:VCALENDAR
VERSION:2.0
PRODID:-//Discovery Community Church - ECPv6.15.20//NONSGML v1.0//EN
CALSCALE:GREGORIAN
METHOD:PUBLISH
X-ORIGINAL-URL:https://discoverycommunity.church
X-WR-CALDESC:Events for Discovery Community Church
REFRESH-INTERVAL;VALUE=DURATION:PT1H
X-Robots-Tag:noindex
X-PUBLISHED-TTL:PT1H
BEGIN:VTIMEZONE
TZID:America/Vancouver
BEGIN:DAYLIGHT
TZOFFSETFROM:-0800
TZOFFSETTO:-0700
TZNAME:PDT
DTSTART:20250309T100000
END:DAYLIGHT
BEGIN:STANDARD
TZOFFSETFROM:-0700
TZOFFSETTO:-0800
TZNAME:PST
DTSTART:20251102T090000
END:STANDARD
BEGIN:DAYLIGHT
TZOFFSETFROM:-0800
TZOFFSETTO:-0700
TZNAME:PDT
DTSTART:20260308T100000
END:DAYLIGHT
BEGIN:STANDARD
TZOFFSETFROM:-0700
TZOFFSETTO:-0800
TZNAME:PST
DTSTART:20261101T090000
END:STANDARD
BEGIN:DAYLIGHT
TZOFFSETFROM:-0800
TZOFFSETTO:-0700
TZNAME:PDT
DTSTART:20270314T100000
END:DAYLIGHT
BEGIN:STANDARD
TZOFFSETFROM:-0700
TZOFFSETTO:-0800
TZNAME:PST
DTSTART:20271107T090000
END:STANDARD
BEGIN:DAYLIGHT
TZOFFSETFROM:-0800
TZOFFSETTO:-0700
TZNAME:PDT
DTSTART:20280312T100000
END:DAYLIGHT
BEGIN:STANDARD
TZOFFSETFROM:-0700
TZOFFSETTO:-0800
TZNAME:PST
DTSTART:20281105T090000
END:STANDARD
END:VTIMEZONE
BEGIN:VEVENT
DTSTART;TZID=America/Vancouver:20261001T130000
DTEND;TZID=America/Vancouver:20261001T143000
DTSTAMP:20260424T144032
CREATED:20230824T203954Z
LAST-MODIFIED:20260419T140837Z
UID:10000476-1790859600-1790865000@discoverycommunity.church
SUMMARY:Hymn Sing
DESCRIPTION:Join us at 1pm for a Hymn Sing and Fellowship time as we worship our God through long loved hymns.  Invite your friends and join us.
URL:https://discoverycommunity.church/event/hymn-sing/2026-10-01/
CATEGORIES:Hymn Sing
ATTACH;FMTTYPE=image/png:https://discoverycommunity.church/wp-content/uploads/2023/08/e-bulletin-icons-9-×-9-in-900-×-900-px-800-×-800-px.png
END:VEVENT
BEGIN:VEVENT
DTSTART;TZID=America/Vancouver:20261004T113000
DTEND;TZID=America/Vancouver:20261004T130000
DTSTAMP:20260424T144032
CREATED:20231103T025921Z
LAST-MODIFIED:20260401T194653Z
UID:10000317-1791113400-1791118800@discoverycommunity.church
SUMMARY:Shared Meal
DESCRIPTION:
URL:https://discoverycommunity.church/event/shared-meal/2026-10-04/
LOCATION:Discovery Community Church\, 250 10th Ave.\, Campell River\, BC\, V9W4E3\, Canada
CATEGORIES:Shared Meal
ATTACH;FMTTYPE=image/png:https://discoverycommunity.church/wp-content/uploads/2023/11/2-e1764436586658.png
END:VEVENT
BEGIN:VEVENT
DTSTART;TZID=America/Vancouver:20261012T100000
DTEND;TZID=America/Vancouver:20261013T103000
DTSTAMP:20260424T144032
CREATED:20251018T042530Z
LAST-MODIFIED:20260420T190441Z
UID:10000604-1791799200-1791887400@discoverycommunity.church
SUMMARY:Walk of Compassion
DESCRIPTION:
URL:https://discoverycommunity.church/event/walk-of-compassion/2026-10-12/
CATEGORIES:Walk of Compassion
ATTACH;FMTTYPE=image/jpeg:https://discoverycommunity.church/wp-content/uploads/2025/10/September-Icons.jpg
END:VEVENT
BEGIN:VEVENT
DTSTART;TZID=America/Vancouver:20261026T100000
DTEND;TZID=America/Vancouver:20261027T103000
DTSTAMP:20260424T144032
CREATED:20251018T042530Z
LAST-MODIFIED:20260420T190441Z
UID:10000538-1793008800-1793097000@discoverycommunity.church
SUMMARY:Walk of Compassion
DESCRIPTION:
URL:https://discoverycommunity.church/event/walk-of-compassion/2026-10-26/
CATEGORIES:Walk of Compassion
ATTACH;FMTTYPE=image/jpeg:https://discoverycommunity.church/wp-content/uploads/2025/10/September-Icons.jpg
END:VEVENT
BEGIN:VEVENT
DTSTART;TZID=America/Vancouver:20261101T113000
DTEND;TZID=America/Vancouver:20261101T130000
DTSTAMP:20260424T144032
CREATED:20231103T025921Z
LAST-MODIFIED:20260401T194653Z
UID:10000403-1793532600-1793538000@discoverycommunity.church
SUMMARY:Shared Meal
DESCRIPTION:
URL:https://discoverycommunity.church/event/shared-meal/2026-11-01/
LOCATION:Discovery Community Church\, 250 10th Ave.\, Campell River\, BC\, V9W4E3\, Canada
CATEGORIES:Shared Meal
ATTACH;FMTTYPE=image/png:https://discoverycommunity.church/wp-content/uploads/2023/11/2-e1764436586658.png
END:VEVENT
BEGIN:VEVENT
DTSTART;TZID=America/Vancouver:20261105T130000
DTEND;TZID=America/Vancouver:20261105T143000
DTSTAMP:20260424T144032
CREATED:20230824T203954Z
LAST-MODIFIED:20260419T140837Z
UID:10000477-1793883600-1793889000@discoverycommunity.church
SUMMARY:Hymn Sing
DESCRIPTION:Join us at 1pm for a Hymn Sing and Fellowship time as we worship our God through long loved hymns.  Invite your friends and join us.
URL:https://discoverycommunity.church/event/hymn-sing/2026-11-05/
CATEGORIES:Hymn Sing
ATTACH;FMTTYPE=image/png:https://discoverycommunity.church/wp-content/uploads/2023/08/e-bulletin-icons-9-×-9-in-900-×-900-px-800-×-800-px.png
END:VEVENT
BEGIN:VEVENT
DTSTART;TZID=America/Vancouver:20261109T100000
DTEND;TZID=America/Vancouver:20261110T103000
DTSTAMP:20260424T144032
CREATED:20251018T042530Z
LAST-MODIFIED:20260420T190441Z
UID:10000605-1794218400-1794306600@discoverycommunity.church
SUMMARY:Walk of Compassion
DESCRIPTION:
URL:https://discoverycommunity.church/event/walk-of-compassion/2026-11-09/
CATEGORIES:Walk of Compassion
ATTACH;FMTTYPE=image/jpeg:https://discoverycommunity.church/wp-content/uploads/2025/10/September-Icons.jpg
END:VEVENT
BEGIN:VEVENT
DTSTART;TZID=America/Vancouver:20261123T100000
DTEND;TZID=America/Vancouver:20261124T103000
DTSTAMP:20260424T144032
CREATED:20251018T042530Z
LAST-MODIFIED:20260420T190441Z
UID:10000606-1795428000-1795516200@discoverycommunity.church
SUMMARY:Walk of Compassion
DESCRIPTION:
URL:https://discoverycommunity.church/event/walk-of-compassion/2026-11-23/
CATEGORIES:Walk of Compassion
ATTACH;FMTTYPE=image/jpeg:https://discoverycommunity.church/wp-content/uploads/2025/10/September-Icons.jpg
END:VEVENT
BEGIN:VEVENT
DTSTART;TZID=America/Vancouver:20261203T130000
DTEND;TZID=America/Vancouver:20261203T143000
DTSTAMP:20260424T144032
CREATED:20230824T203954Z
LAST-MODIFIED:20260419T140837Z
UID:10000478-1796302800-1796308200@discoverycommunity.church
SUMMARY:Hymn Sing
DESCRIPTION:Join us at 1pm for a Hymn Sing and Fellowship time as we worship our God through long loved hymns.  Invite your friends and join us.
URL:https://discoverycommunity.church/event/hymn-sing/2026-12-03/
CATEGORIES:Hymn Sing
ATTACH;FMTTYPE=image/png:https://discoverycommunity.church/wp-content/uploads/2023/08/e-bulletin-icons-9-×-9-in-900-×-900-px-800-×-800-px.png
END:VEVENT
BEGIN:VEVENT
DTSTART;TZID=America/Vancouver:20261206T113000
DTEND;TZID=America/Vancouver:20261206T130000
DTSTAMP:20260424T144032
CREATED:20231103T025921Z
LAST-MODIFIED:20260401T194653Z
UID:10000319-1796556600-1796562000@discoverycommunity.church
SUMMARY:Shared Meal
DESCRIPTION:
URL:https://discoverycommunity.church/event/shared-meal/2026-12-06/
LOCATION:Discovery Community Church\, 250 10th Ave.\, Campell River\, BC\, V9W4E3\, Canada
CATEGORIES:Shared Meal
ATTACH;FMTTYPE=image/png:https://discoverycommunity.church/wp-content/uploads/2023/11/2-e1764436586658.png
END:VEVENT
BEGIN:VEVENT
DTSTART;TZID=America/Vancouver:20261214T100000
DTEND;TZID=America/Vancouver:20261215T103000
DTSTAMP:20260424T144032
CREATED:20251018T042530Z
LAST-MODIFIED:20260420T190441Z
UID:10000607-1797242400-1797330600@discoverycommunity.church
SUMMARY:Walk of Compassion
DESCRIPTION:
URL:https://discoverycommunity.church/event/walk-of-compassion/2026-12-14/
CATEGORIES:Walk of Compassion
ATTACH;FMTTYPE=image/jpeg:https://discoverycommunity.church/wp-content/uploads/2025/10/September-Icons.jpg
END:VEVENT
BEGIN:VEVENT
DTSTART;TZID=America/Vancouver:20261228T100000
DTEND;TZID=America/Vancouver:20261229T103000
DTSTAMP:20260424T144032
CREATED:20251018T042530Z
LAST-MODIFIED:20260420T190441Z
UID:10000540-1798452000-1798540200@discoverycommunity.church
SUMMARY:Walk of Compassion
DESCRIPTION:
URL:https://discoverycommunity.church/event/walk-of-compassion/2026-12-28/
CATEGORIES:Walk of Compassion
ATTACH;FMTTYPE=image/jpeg:https://discoverycommunity.church/wp-content/uploads/2025/10/September-Icons.jpg
END:VEVENT
BEGIN:VEVENT
DTSTART;TZID=America/Vancouver:20270103T113000
DTEND;TZID=America/Vancouver:20270103T130000
DTSTAMP:20260424T144032
CREATED:20231103T025921Z
LAST-MODIFIED:20260401T194653Z
UID:10000320-1798975800-1798981200@discoverycommunity.church
SUMMARY:Shared Meal
DESCRIPTION:
URL:https://discoverycommunity.church/event/shared-meal/2027-01-03/
LOCATION:Discovery Community Church\, 250 10th Ave.\, Campell River\, BC\, V9W4E3\, Canada
CATEGORIES:Shared Meal
ATTACH;FMTTYPE=image/png:https://discoverycommunity.church/wp-content/uploads/2023/11/2-e1764436586658.png
END:VEVENT
BEGIN:VEVENT
DTSTART;TZID=America/Vancouver:20270107T130000
DTEND;TZID=America/Vancouver:20270107T143000
DTSTAMP:20260424T144032
CREATED:20230824T203954Z
LAST-MODIFIED:20260419T140837Z
UID:10000479-1799326800-1799332200@discoverycommunity.church
SUMMARY:Hymn Sing
DESCRIPTION:Join us at 1pm for a Hymn Sing and Fellowship time as we worship our God through long loved hymns.  Invite your friends and join us.
URL:https://discoverycommunity.church/event/hymn-sing/2027-01-07/
CATEGORIES:Hymn Sing
ATTACH;FMTTYPE=image/png:https://discoverycommunity.church/wp-content/uploads/2023/08/e-bulletin-icons-9-×-9-in-900-×-900-px-800-×-800-px.png
END:VEVENT
BEGIN:VEVENT
DTSTART;TZID=America/Vancouver:20270111T100000
DTEND;TZID=America/Vancouver:20270112T103000
DTSTAMP:20260424T144032
CREATED:20251018T042530Z
LAST-MODIFIED:20260420T190441Z
UID:10000608-1799661600-1799749800@discoverycommunity.church
SUMMARY:Walk of Compassion
DESCRIPTION:
URL:https://discoverycommunity.church/event/walk-of-compassion/2027-01-11/
CATEGORIES:Walk of Compassion
ATTACH;FMTTYPE=image/jpeg:https://discoverycommunity.church/wp-content/uploads/2025/10/September-Icons.jpg
END:VEVENT
BEGIN:VEVENT
DTSTART;TZID=America/Vancouver:20270125T100000
DTEND;TZID=America/Vancouver:20270126T103000
DTSTAMP:20260424T144032
CREATED:20251018T042530Z
LAST-MODIFIED:20260420T190441Z
UID:10000541-1800871200-1800959400@discoverycommunity.church
SUMMARY:Walk of Compassion
DESCRIPTION:
URL:https://discoverycommunity.church/event/walk-of-compassion/2027-01-25/
CATEGORIES:Walk of Compassion
ATTACH;FMTTYPE=image/jpeg:https://discoverycommunity.church/wp-content/uploads/2025/10/September-Icons.jpg
END:VEVENT
BEGIN:VEVENT
DTSTART;TZID=America/Vancouver:20270204T130000
DTEND;TZID=America/Vancouver:20270204T143000
DTSTAMP:20260424T144032
CREATED:20230824T203954Z
LAST-MODIFIED:20260419T140837Z
UID:10000480-1801746000-1801751400@discoverycommunity.church
SUMMARY:Hymn Sing
DESCRIPTION:Join us at 1pm for a Hymn Sing and Fellowship time as we worship our God through long loved hymns.  Invite your friends and join us.
URL:https://discoverycommunity.church/event/hymn-sing/2027-02-04/
CATEGORIES:Hymn Sing
ATTACH;FMTTYPE=image/png:https://discoverycommunity.church/wp-content/uploads/2023/08/e-bulletin-icons-9-×-9-in-900-×-900-px-800-×-800-px.png
END:VEVENT
BEGIN:VEVENT
DTSTART;TZID=America/Vancouver:20270207T113000
DTEND;TZID=America/Vancouver:20270207T130000
DTSTAMP:20260424T144032
CREATED:20231103T025921Z
LAST-MODIFIED:20260401T194653Z
UID:10000321-1801999800-1802005200@discoverycommunity.church
SUMMARY:Shared Meal
DESCRIPTION:
URL:https://discoverycommunity.church/event/shared-meal/2027-02-07/
LOCATION:Discovery Community Church\, 250 10th Ave.\, Campell River\, BC\, V9W4E3\, Canada
CATEGORIES:Shared Meal
ATTACH;FMTTYPE=image/png:https://discoverycommunity.church/wp-content/uploads/2023/11/2-e1764436586658.png
END:VEVENT
BEGIN:VEVENT
DTSTART;TZID=America/Vancouver:20270208T100000
DTEND;TZID=America/Vancouver:20270209T103000
DTSTAMP:20260424T144032
CREATED:20251018T042530Z
LAST-MODIFIED:20260420T190441Z
UID:10000609-1802080800-1802169000@discoverycommunity.church
SUMMARY:Walk of Compassion
DESCRIPTION:
URL:https://discoverycommunity.church/event/walk-of-compassion/2027-02-08/
CATEGORIES:Walk of Compassion
ATTACH;FMTTYPE=image/jpeg:https://discoverycommunity.church/wp-content/uploads/2025/10/September-Icons.jpg
END:VEVENT
BEGIN:VEVENT
DTSTART;TZID=America/Vancouver:20270222T100000
DTEND;TZID=America/Vancouver:20270223T103000
DTSTAMP:20260424T144032
CREATED:20251018T042530Z
LAST-MODIFIED:20260420T190441Z
UID:10000542-1803290400-1803378600@discoverycommunity.church
SUMMARY:Walk of Compassion
DESCRIPTION:
URL:https://discoverycommunity.church/event/walk-of-compassion/2027-02-22/
CATEGORIES:Walk of Compassion
ATTACH;FMTTYPE=image/jpeg:https://discoverycommunity.church/wp-content/uploads/2025/10/September-Icons.jpg
END:VEVENT
BEGIN:VEVENT
DTSTART;TZID=America/Vancouver:20270304T130000
DTEND;TZID=America/Vancouver:20270304T143000
DTSTAMP:20260424T144032
CREATED:20230824T203954Z
LAST-MODIFIED:20260419T140837Z
UID:10000481-1804165200-1804170600@discoverycommunity.church
SUMMARY:Hymn Sing
DESCRIPTION:Join us at 1pm for a Hymn Sing and Fellowship time as we worship our God through long loved hymns.  Invite your friends and join us.
URL:https://discoverycommunity.church/event/hymn-sing/2027-03-04/
CATEGORIES:Hymn Sing
ATTACH;FMTTYPE=image/png:https://discoverycommunity.church/wp-content/uploads/2023/08/e-bulletin-icons-9-×-9-in-900-×-900-px-800-×-800-px.png
END:VEVENT
BEGIN:VEVENT
DTSTART;TZID=America/Vancouver:20270307T113000
DTEND;TZID=America/Vancouver:20270307T130000
DTSTAMP:20260424T144032
CREATED:20231103T025921Z
LAST-MODIFIED:20260401T194653Z
UID:10000322-1804419000-1804424400@discoverycommunity.church
SUMMARY:Shared Meal
DESCRIPTION:
URL:https://discoverycommunity.church/event/shared-meal/2027-03-07/
LOCATION:Discovery Community Church\, 250 10th Ave.\, Campell River\, BC\, V9W4E3\, Canada
CATEGORIES:Shared Meal
ATTACH;FMTTYPE=image/png:https://discoverycommunity.church/wp-content/uploads/2023/11/2-e1764436586658.png
END:VEVENT
BEGIN:VEVENT
DTSTART;TZID=America/Vancouver:20270308T100000
DTEND;TZID=America/Vancouver:20270309T103000
DTSTAMP:20260424T144032
CREATED:20251018T042530Z
LAST-MODIFIED:20260420T190441Z
UID:10000610-1804500000-1804588200@discoverycommunity.church
SUMMARY:Walk of Compassion
DESCRIPTION:
URL:https://discoverycommunity.church/event/walk-of-compassion/2027-03-08/
CATEGORIES:Walk of Compassion
ATTACH;FMTTYPE=image/jpeg:https://discoverycommunity.church/wp-content/uploads/2025/10/September-Icons.jpg
END:VEVENT
BEGIN:VEVENT
DTSTART;TZID=America/Vancouver:20270322T100000
DTEND;TZID=America/Vancouver:20270323T103000
DTSTAMP:20260424T144032
CREATED:20251018T042530Z
LAST-MODIFIED:20260420T190441Z
UID:10000611-1805709600-1805797800@discoverycommunity.church
SUMMARY:Walk of Compassion
DESCRIPTION:
URL:https://discoverycommunity.church/event/walk-of-compassion/2027-03-22/
CATEGORIES:Walk of Compassion
ATTACH;FMTTYPE=image/jpeg:https://discoverycommunity.church/wp-content/uploads/2025/10/September-Icons.jpg
END:VEVENT
BEGIN:VEVENT
DTSTART;TZID=America/Vancouver:20270401T130000
DTEND;TZID=America/Vancouver:20270401T143000
DTSTAMP:20260424T144032
CREATED:20230824T203954Z
LAST-MODIFIED:20260419T140837Z
UID:10000482-1806584400-1806589800@discoverycommunity.church
SUMMARY:Hymn Sing
DESCRIPTION:Join us at 1pm for a Hymn Sing and Fellowship time as we worship our God through long loved hymns.  Invite your friends and join us.
URL:https://discoverycommunity.church/event/hymn-sing/2027-04-01/
CATEGORIES:Hymn Sing
ATTACH;FMTTYPE=image/png:https://discoverycommunity.church/wp-content/uploads/2023/08/e-bulletin-icons-9-×-9-in-900-×-900-px-800-×-800-px.png
END:VEVENT
BEGIN:VEVENT
DTSTART;TZID=America/Vancouver:20270404T113000
DTEND;TZID=America/Vancouver:20270404T130000
DTSTAMP:20260424T144032
CREATED:20231103T025921Z
LAST-MODIFIED:20260401T194653Z
UID:10000323-1806838200-1806843600@discoverycommunity.church
SUMMARY:Shared Meal
DESCRIPTION:
URL:https://discoverycommunity.church/event/shared-meal/2027-04-04/
LOCATION:Discovery Community Church\, 250 10th Ave.\, Campell River\, BC\, V9W4E3\, Canada
CATEGORIES:Shared Meal
ATTACH;FMTTYPE=image/png:https://discoverycommunity.church/wp-content/uploads/2023/11/2-e1764436586658.png
END:VEVENT
BEGIN:VEVENT
DTSTART;TZID=America/Vancouver:20270412T100000
DTEND;TZID=America/Vancouver:20270413T103000
DTSTAMP:20260424T144032
CREATED:20251018T042530Z
LAST-MODIFIED:20260420T190441Z
UID:10000612-1807524000-1807612200@discoverycommunity.church
SUMMARY:Walk of Compassion
DESCRIPTION:
URL:https://discoverycommunity.church/event/walk-of-compassion/2027-04-12/
CATEGORIES:Walk of Compassion
ATTACH;FMTTYPE=image/jpeg:https://discoverycommunity.church/wp-content/uploads/2025/10/September-Icons.jpg
END:VEVENT
BEGIN:VEVENT
DTSTART;TZID=America/Vancouver:20270426T100000
DTEND;TZID=America/Vancouver:20270427T103000
DTSTAMP:20260424T144032
CREATED:20251018T042530Z
LAST-MODIFIED:20260420T190441Z
UID:10000544-1808733600-1808821800@discoverycommunity.church
SUMMARY:Walk of Compassion
DESCRIPTION:
URL:https://discoverycommunity.church/event/walk-of-compassion/2027-04-26/
CATEGORIES:Walk of Compassion
ATTACH;FMTTYPE=image/jpeg:https://discoverycommunity.church/wp-content/uploads/2025/10/September-Icons.jpg
END:VEVENT
BEGIN:VEVENT
DTSTART;TZID=America/Vancouver:20270502T113000
DTEND;TZID=America/Vancouver:20270502T130000
DTSTAMP:20260424T144032
CREATED:20231103T025921Z
LAST-MODIFIED:20260401T194653Z
UID:10000324-1809257400-1809262800@discoverycommunity.church
SUMMARY:Shared Meal
DESCRIPTION:
URL:https://discoverycommunity.church/event/shared-meal/2027-05-02/
LOCATION:Discovery Community Church\, 250 10th Ave.\, Campell River\, BC\, V9W4E3\, Canada
CATEGORIES:Shared Meal
ATTACH;FMTTYPE=image/png:https://discoverycommunity.church/wp-content/uploads/2023/11/2-e1764436586658.png
END:VEVENT
BEGIN:VEVENT
DTSTART;TZID=America/Vancouver:20270506T130000
DTEND;TZID=America/Vancouver:20270506T143000
DTSTAMP:20260424T144032
CREATED:20230824T203954Z
LAST-MODIFIED:20260419T140837Z
UID:10000483-1809608400-1809613800@discoverycommunity.church
SUMMARY:Hymn Sing
DESCRIPTION:Join us at 1pm for a Hymn Sing and Fellowship time as we worship our God through long loved hymns.  Invite your friends and join us.
URL:https://discoverycommunity.church/event/hymn-sing/2027-05-06/
CATEGORIES:Hymn Sing
ATTACH;FMTTYPE=image/png:https://discoverycommunity.church/wp-content/uploads/2023/08/e-bulletin-icons-9-×-9-in-900-×-900-px-800-×-800-px.png
END:VEVENT
END:VCALENDAR