BEGIN:VCALENDAR
VERSION:2.0
PRODID:-//Discovery Community Church - ECPv6.15.20//NONSGML v1.0//EN
CALSCALE:GREGORIAN
METHOD:PUBLISH
X-ORIGINAL-URL:https://discoverycommunity.church
X-WR-CALDESC:Events for Discovery Community Church
REFRESH-INTERVAL;VALUE=DURATION:PT1H
X-Robots-Tag:noindex
X-PUBLISHED-TTL:PT1H
BEGIN:VTIMEZONE
TZID:America/Vancouver
BEGIN:DAYLIGHT
TZOFFSETFROM:-0800
TZOFFSETTO:-0700
TZNAME:PDT
DTSTART:20250309T100000
END:DAYLIGHT
BEGIN:STANDARD
TZOFFSETFROM:-0700
TZOFFSETTO:-0800
TZNAME:PST
DTSTART:20251102T090000
END:STANDARD
BEGIN:DAYLIGHT
TZOFFSETFROM:-0800
TZOFFSETTO:-0700
TZNAME:PDT
DTSTART:20260308T100000
END:DAYLIGHT
BEGIN:STANDARD
TZOFFSETFROM:-0700
TZOFFSETTO:-0800
TZNAME:PST
DTSTART:20261101T090000
END:STANDARD
BEGIN:DAYLIGHT
TZOFFSETFROM:-0800
TZOFFSETTO:-0700
TZNAME:PDT
DTSTART:20270314T100000
END:DAYLIGHT
BEGIN:STANDARD
TZOFFSETFROM:-0700
TZOFFSETTO:-0800
TZNAME:PST
DTSTART:20271107T090000
END:STANDARD
END:VTIMEZONE
BEGIN:VEVENT
DTSTART;TZID=America/Vancouver:20260604T130000
DTEND;TZID=America/Vancouver:20260604T143000
DTSTAMP:20260424T173705
CREATED:20230824T203954Z
LAST-MODIFIED:20260419T140837Z
UID:10000472-1780578000-1780583400@discoverycommunity.church
SUMMARY:Hymn Sing
DESCRIPTION:Join us at 1pm for a Hymn Sing and Fellowship time as we worship our God through long loved hymns.  Invite your friends and join us.
URL:https://discoverycommunity.church/event/hymn-sing/2026-06-04/
LOCATION:BC
CATEGORIES:Hymn Sing
ATTACH;FMTTYPE=image/png:https://discoverycommunity.church/wp-content/uploads/2023/08/e-bulletin-icons-9-×-9-in-900-×-900-px-800-×-800-px.png
END:VEVENT
BEGIN:VEVENT
DTSTART;TZID=America/Vancouver:20260607T113000
DTEND;TZID=America/Vancouver:20260607T130000
DTSTAMP:20260424T173705
CREATED:20231103T025921Z
LAST-MODIFIED:20260401T194653Z
UID:10000313-1780831800-1780837200@discoverycommunity.church
SUMMARY:Shared Meal
DESCRIPTION:
URL:https://discoverycommunity.church/event/shared-meal/2026-06-07/
LOCATION:Discovery Community Church\, 250 10th Ave.\, Campell River\, BC\, V9W4E3\, Canada
CATEGORIES:Shared Meal
ATTACH;FMTTYPE=image/png:https://discoverycommunity.church/wp-content/uploads/2023/11/2-e1764436586658.png
END:VEVENT
BEGIN:VEVENT
DTSTART;TZID=America/Vancouver:20260608T100000
DTEND;TZID=America/Vancouver:20260609T103000
DTSTAMP:20260424T173705
CREATED:20251018T042530Z
LAST-MODIFIED:20260420T190441Z
UID:10000598-1780912800-1781001000@discoverycommunity.church
SUMMARY:Walk of Compassion
DESCRIPTION:
URL:https://discoverycommunity.church/event/walk-of-compassion/2026-06-08/
LOCATION:BC
CATEGORIES:Walk of Compassion
ATTACH;FMTTYPE=image/jpeg:https://discoverycommunity.church/wp-content/uploads/2025/10/September-Icons.jpg
END:VEVENT
BEGIN:VEVENT
DTSTART;TZID=America/Vancouver:20260622T100000
DTEND;TZID=America/Vancouver:20260623T103000
DTSTAMP:20260424T173705
CREATED:20251018T042530Z
LAST-MODIFIED:20260420T190441Z
UID:10000599-1782122400-1782210600@discoverycommunity.church
SUMMARY:Walk of Compassion
DESCRIPTION:
URL:https://discoverycommunity.church/event/walk-of-compassion/2026-06-22/
LOCATION:BC
CATEGORIES:Walk of Compassion
ATTACH;FMTTYPE=image/jpeg:https://discoverycommunity.church/wp-content/uploads/2025/10/September-Icons.jpg
END:VEVENT
END:VCALENDAR